BEGIN:VCALENDAR
PRODID: -//Microsoft Corporation//Outlook 12.0 MIMEDIR//EN
VERSION:2.0
METHOD:PUBLISH
BEGIN:VEVENT
DTSTART:20260611T113000Z
DTEND:20260611T163000Z
LOCATION:
TRANSP:TRANSPARENT
SEQUENCE:0
UID:201
DTSTAMP:20260611T113000Z
DESCRIPTION:
SUMMARY: Grafton Group plc -  Grafton Group plc Capital Markets Event 
PRIORITY:5
X-MICROSOFT-CDO-IMPORTANCE:1
CLASS:PUBLIC
X-MICROSOFT-CDO-BUSYSTATUS:
END:VEVENT
END:VCALENDAR
